BEGIN:VCALENDAR
VERSION:2.0
PRODID:-//Casa De España - ECPv6.15.20//NONSGML v1.0//EN
CALSCALE:GREGORIAN
METHOD:PUBLISH
X-WR-CALNAME:Casa De España
X-ORIGINAL-URL:https://casadeespanadfw.org
X-WR-CALDESC:Eventos para Casa De España
REFRESH-INTERVAL;VALUE=DURATION:PT1H
X-Robots-Tag:noindex
X-PUBLISHED-TTL:PT1H
BEGIN:VTIMEZONE
TZID:America/Bogota
BEGIN:STANDARD
TZOFFSETFROM:-0500
TZOFFSETTO:-0500
TZNAME:-05
DTSTART:20250101T000000
END:STANDARD
END:VTIMEZONE
BEGIN:VEVENT
DTSTART;TZID=America/Bogota:20260301T120000
DTEND;TZID=America/Bogota:20260301T133000
DTSTAMP:20260424T114932
CREATED:20260204T160724Z
LAST-MODIFIED:20260204T160754Z
UID:4576-1772366400-1772371800@casadeespanadfw.org
SUMMARY:Presentación literaria "Revolution. Spain´s crucial role" Jorge Luis García.
DESCRIPTION:El próximo 1 de marzo nuestro amigo y conocido escritor Jorge Luis García Ruíz nos presentará su última obra literaria “Revolution. Spain´s crucial role”\, en colaboración con la asociación cultural Héroes de Cavite.
URL:https://casadeespanadfw.org/event/presentacion-literaria-revolution-spains-crucial-role-jorge-luis-garcia/
ATTACH;FMTTYPE=image/jpeg:https://casadeespanadfw.org/wp-content/uploads/2026/02/Revolution-Jorge-Garcia-.jpg
END:VEVENT
BEGIN:VEVENT
DTSTART;TZID=America/Bogota:20260307T173000
DTEND;TZID=America/Bogota:20260307T200000
DTSTAMP:20260424T114932
CREATED:20260204T161107Z
LAST-MODIFIED:20260204T161107Z
UID:4581-1772904600-1772913600@casadeespanadfw.org
SUMMARY:Casa de España DFW tiene talento!
DESCRIPTION:¿Tienes algún talento y nos lo quieres demostrar? Pasa un buen rato con nuestra presentación de talentos:\n\nTeatro\, Monólogos\, Poesía\, Música\, Canto\, Baile\, Chistes\, etc. o lo que se te ocurra. Actividad gratuíta. Solo debes registrate en https://www.zeffy.com/en-US/ticketing/cde-dfw-tiene-talento e indicarnos tu talento. Tendrás entre 5 y\n15 minutos para demostrarlo.\nHabrá aperitivos antes de empezar el show.\nDe 5:30 a 8.
URL:https://casadeespanadfw.org/event/casa-de-espana-dfw-tiene-talento/
ATTACH;FMTTYPE=image/jpeg:https://casadeespanadfw.org/wp-content/uploads/2026/02/CaSA-DE-ESPANA-TIENE-TALENTO-2.jpg
END:VEVENT
BEGIN:VEVENT
DTSTART;TZID=America/Bogota:20260314T120000
DTEND;TZID=America/Bogota:20260314T130000
DTSTAMP:20260424T114932
CREATED:20260204T164305Z
LAST-MODIFIED:20260204T183713Z
UID:4584-1773489600-1773493200@casadeespanadfw.org
SUMMARY:ASAMBLEA GENERAL ORDINARIA 14 de marzo
DESCRIPTION:Os convocamos a la Asamblea General Ordinaria\, prevista en los estatutos de Casa de España\, a las 12PM en las oficinas de AVANGARD GROUP\,\, con el siguiente \nOrden del Día \n\nLectura y aprobación del acta de la asamblea anterior\nInforme de Presidencia\nInforme de Tesoreria\nElecciones a Presidencia y junta\nRuegos y pregunstas\n\nPara presentar vuestras candidaturas a presidencia debeéis mandar un correo a houseofspain@casadeespanadfw.org indicando ELECCIONES dentro del plazo de un mes antes de las elecciones. \n 
URL:https://casadeespanadfw.org/event/asamblea-general-ordinaria14-de-marzo/
LOCATION:Avangard Group\, 7920 Belt Line Rd Suite 150 Dallas\, TX 75254\, DALLAS\, 75254\, United States
END:VEVENT
BEGIN:VEVENT
DTSTART;TZID=America/Bogota:20260317T183000
DTEND;TZID=America/Bogota:20260317T203000
DTSTAMP:20260424T114932
CREATED:20260303T194515Z
LAST-MODIFIED:20260303T194515Z
UID:4597-1773772200-1773779400@casadeespanadfw.org
SUMMARY:Club de lectura. La Cacica
DESCRIPTION:Resumen\n\n\n\n\n\n\n\nEn 1547\, un periodo de guerra por el territorio en la recién descubierta América\, el cacique Cínera\, líder de los Cáchira de Zulasquilla\, anuncia la caída del cacique Mara en manos del hombre blanco vestido de hierro. Zulia\, la hija mayor del cacique Cínera\, se debate entre crear una alianza de guerreros para salir al paso de los españoles o huir internándose en la selva. Aunque es joven\, enérgica y decidida\, Zulia debe mostrar respeto a los líderes de su pueblo. Mientras tanto\, los españoles continúan en la búsqueda de aquello que más anhelan: la gloria\, el oro y las mujeres\, y para ello planean acabar con cualquier indicio de rebelión. Esta es una historia llena de luchas por el dominio del territorio\, la libertad de un pueblo y la permanencia de su cultura y costumbres. La identidad\, la libertad\, el amor\, la familia y la venganza son parte importante de los temas que se destacan en la novela.
URL:https://casadeespanadfw.org/event/club-de-lectura-la-cacica/
ATTACH;FMTTYPE=image/jpeg:https://casadeespanadfw.org/wp-content/uploads/2026/03/CLUB-DE-LECTURA-marzo-2026.jpg
END:VEVENT
BEGIN:VEVENT
DTSTART;TZID=America/Bogota:20260326T110000
DTEND;TZID=America/Bogota:20260326T133000
DTSTAMP:20260424T114932
CREATED:20260303T194849Z
LAST-MODIFIED:20260325T151159Z
UID:4600-1774522800-1774531800@casadeespanadfw.org
SUMMARY:Bullying: Lo que tus hijos no siempre te cuentan.
DESCRIPTION:Jornada divulgativa. Bullying: Lo que tus hijos no siempre te cuentan. \nEl bullying no se resuelve solo castigando\, se resuelve educando. \nImparte: Doña Sara Perez-Tomé. Asesora familiar y matrimonial. \nLugar: McKinney. 11aM.
URL:https://casadeespanadfw.org/event/bullying-lo-que-tus-hijos-no-siempre-te-cuentan/
ATTACH;FMTTYPE=image/jpeg:https://casadeespanadfw.org/wp-content/uploads/2026/03/Jornada-BullYing-26-de-marzo-2026-3.jpg
END:VEVENT
END:VCALENDAR