BEGIN:VCALENDAR
VERSION:2.0
PRODID:-//Casa De España - ECPv6.15.20//NONSGML v1.0//EN
CALSCALE:GREGORIAN
METHOD:PUBLISH
X-WR-CALNAME:Casa De España
X-ORIGINAL-URL:https://casadeespanadfw.org
X-WR-CALDESC:Eventos para Casa De España
REFRESH-INTERVAL;VALUE=DURATION:PT1H
X-Robots-Tag:noindex
X-PUBLISHED-TTL:PT1H
BEGIN:VTIMEZONE
TZID:America/Bogota
BEGIN:STANDARD
TZOFFSETFROM:-0500
TZOFFSETTO:-0500
TZNAME:-05
DTSTART:20250101T000000
END:STANDARD
END:VTIMEZONE
BEGIN:VEVENT
DTSTART;TZID=America/Bogota:20260217T183000
DTEND;TZID=America/Bogota:20260217T203000
DTSTAMP:20260424T131344
CREATED:20260204T160235Z
LAST-MODIFIED:20260204T160321Z
UID:4573-1771353000-1771360200@casadeespanadfw.org
SUMMARY:Club de lectura Febrero. "Vera una historia de amor"
DESCRIPTION:Este mes leeremos y comentaremos el último premio Planeta 2025 “Vera\, una historia de amor” de Juan Del Val. \nCuando el deseo también es el peligro \nVera ha seguido siempre las reglas: ha vivido durante más de veinte años con la elegancia\, la discreción y la dignidad exigidas a la esposa de un marqués. Pero ahora\, a los cuarenta y cinco\, recién separada y sin nadie que le dicte qué hacer\, empieza a plantearse preguntas que nunca se había permitido. \nEn medio de esta búsqueda aparece Antonio. Es más joven\, de origen modesto y ajeno a su mundo. No es solo la atracción lo que los une\, sino algo más profundo: la posibilidad de salirse del guion. Ese vínculo\, tan improbable como provocador\, será el detonante de unos hechos que nadie anticipa. \nEl exmarido de Vera no acepta que esta se haya rebelado\, y lo que comienza como despecho se va convirtiendo en algo mucho más siniestro. Hay cosas que el marqués no soporta perder. Y algunas pérdidas\, cuando se acumulan\, pueden llevarte al límite.
URL:https://casadeespanadfw.org/event/club-de-lectura-febrero-vera-una-historia-de-amor/
ATTACH;FMTTYPE=image/jpeg:https://casadeespanadfw.org/wp-content/uploads/2026/02/CLUB-DE-LECTURA-febrero-2026.jpg
END:VEVENT
BEGIN:VEVENT
DTSTART;TZID=America/Bogota:20260224T110000
DTEND;TZID=America/Bogota:20260224T123000
DTSTAMP:20260424T131344
CREATED:20260204T184235Z
LAST-MODIFIED:20260209T163141Z
UID:4588-1771930800-1771936200@casadeespanadfw.org
SUMMARY:Bienestar integral: Como sincronizar tu cuerpo y tu mente para sentirte plena y con energia vital.
DESCRIPTION:Bienestar integral: Como sincronizar tu cuerpo y tu mente para sentirte plena y con energía vital. \n24 de febrero de 2025. 11AM. \n1207 Hills Creek Dr \nMCKinney 75072
URL:https://casadeespanadfw.org/event/bienestar-integral-como-sincronizar-tu-cuerpo-y-tu-mente-para-sentirte-plena-y-con-energia-vital/
ATTACH;FMTTYPE=image/jpeg:https://casadeespanadfw.org/wp-content/uploads/2026/02/3-tips-de-nutricion-1.jpg
END:VEVENT
END:VCALENDAR