BEGIN:VCALENDAR
VERSION:2.0
PRODID:-//Casa De España - ECPv6.15.20//NONSGML v1.0//EN
CALSCALE:GREGORIAN
METHOD:PUBLISH
X-ORIGINAL-URL:https://casadeespanadfw.org
X-WR-CALDESC:Eventos para Casa De España
REFRESH-INTERVAL;VALUE=DURATION:PT1H
X-Robots-Tag:noindex
X-PUBLISHED-TTL:PT1H
BEGIN:VTIMEZONE
TZID:America/Bogota
BEGIN:STANDARD
TZOFFSETFROM:-0500
TZOFFSETTO:-0500
TZNAME:-05
DTSTART:20250101T000000
END:STANDARD
END:VTIMEZONE
BEGIN:VEVENT
DTSTART;TZID=America/Bogota:20260110T120000
DTEND;TZID=America/Bogota:20260110T150000
DTSTAMP:20260424T144421
CREATED:20251119T163644Z
LAST-MODIFIED:20251201T194250Z
UID:4558-1768046400-1768057200@casadeespanadfw.org
SUMMARY:Reyes Magos 2026
DESCRIPTION:Ya vienen los Reyes Magos a Dallas!! y lo harán\, como siempre\, de la mano de la Casa de España. \nEl sábado 10 de enero a las 12PM en el Latino Cultural center\, SSMM recibirán a todos los niños de nuestra gran comunidad para entregarles regalos. No faltes! \nInscripciones en https://www.zeffy.com/en-US/ticketing/reyes-magos–2026 \n 
URL:https://casadeespanadfw.org/event/reyes-magos-2026/
ATTACH;FMTTYPE=image/jpeg:https://casadeespanadfw.org/wp-content/uploads/2025/11/Ya-vienen-los-Reyes-Magos.jpg
END:VEVENT
BEGIN:VEVENT
DTSTART;TZID=America/Bogota:20260120T063000
DTEND;TZID=America/Bogota:20260120T203000
DTSTAMP:20260424T144421
CREATED:20251201T193623Z
LAST-MODIFIED:20251201T193623Z
UID:4567-1768890600-1768941000@casadeespanadfw.org
SUMMARY:Club de lectura Enero 2025. El Dios de los bosques.
DESCRIPTION:El dia 20 de enero de 2026 leeremos y comentaremos “El dios de los bosques” de Liz Moore. \nGANADOR DEL PREMIO GOODREADS DE THRILLER 2024 \nMEJOR THRILLER DE 2024 POR EL NEW YORK TIMES\n \nHay quien dice que lo que les pasó a los Van Laar fue una tragedia. \nHay quien dice que se lo merecían. \nA primera hora de una mañana de agosto de 1975\, un monitor de un campamento de verano descubre una litera vacía. Barbara Van Laar\, la hija de los dueños del campamento\, ha desaparecido. Pero no es la primera vez que sucede algo así en esa familia: hace quince años\, el hermano de Barbara también desapareció sin dejar rastro. ¿Cómo es posible que haya vuelto a pasar? \n 
URL:https://casadeespanadfw.org/event/club-de-lectura-enero-2025-el-dios-de-los-bosques/
ATTACH;FMTTYPE=image/jpeg:https://casadeespanadfw.org/wp-content/uploads/2025/12/CLUB-DE-LECTURA-enero-2026.jpg
END:VEVENT
END:VCALENDAR