BEGIN:VCALENDAR
VERSION:2.0
PRODID:-//Casa De España - ECPv6.15.20//NONSGML v1.0//EN
CALSCALE:GREGORIAN
METHOD:PUBLISH
X-ORIGINAL-URL:https://casadeespanadfw.org
X-WR-CALDESC:Eventos para Casa De España
REFRESH-INTERVAL;VALUE=DURATION:PT1H
X-Robots-Tag:noindex
X-PUBLISHED-TTL:PT1H
BEGIN:VTIMEZONE
TZID:America/Bogota
BEGIN:STANDARD
TZOFFSETFROM:-0500
TZOFFSETTO:-0500
TZNAME:-05
DTSTART:20240101T000000
END:STANDARD
END:VTIMEZONE
BEGIN:VEVENT
DTSTART;TZID=America/Bogota:20251115T180000
DTEND;TZID=America/Bogota:20251115T230000
DTSTAMP:20260424T170917
CREATED:20250902T162636Z
LAST-MODIFIED:20251014T155306Z
UID:4477-1763229600-1763247600@casadeespanadfw.org
SUMMARY:SAVE THE DATE: Gala Anual de Casa de España DFW
DESCRIPTION:  \nEstamos preparando con mucho cariño la gala anual de socios de Casa de España. Próximamente os daremos todos los detalles! Reserva el 15 de noviembre para el evento del año. \n15 de noviembre de 2025. Desde las 6PM. Lugar: BrookHaven Country Club. \nSocios: $75 No Socios: $100 \n¿Tienes una marca española en Texas o conoces a alguien que quiera colaborar? Buscamos productos o servicios para subastar y recaudar fondos para nuestras actividades¡ Es una forma genial de apoyar la comunidad y dar visibilidad a tu negocio! \nAdquiere tu entrada en https://www.zeffy.com/en-US/ticketing/gala-anual \n  \n  \n 
URL:https://casadeespanadfw.org/event/save-the-date-gala-anual-de-casa-de-espana-dfw/
LOCATION:BROOKHAVEN COUNTRY CLUB\, 333 GOLFING GREEN DR\, Farmers Branch\, farmers branch\, 75204\, United States
ATTACH;FMTTYPE=image/jpeg:https://casadeespanadfw.org/wp-content/uploads/2025/09/SAVE-THE-DATE-GALA-2025-6.jpg
END:VEVENT
BEGIN:VEVENT
DTSTART;TZID=America/Bogota:20251118T183000
DTEND;TZID=America/Bogota:20251118T203000
DTSTAMP:20260424T170917
CREATED:20251103T165950Z
LAST-MODIFIED:20251103T165950Z
UID:4542-1763490600-1763497800@casadeespanadfw.org
SUMMARY:Bookclub Noviembre 2025. "Historia de Dos ciudades". Charles Dickens
DESCRIPTION:“Historia de dos ciudades” es una novela de Charles Dickens que se desarrolla en París y Londres durante la Revolución Francesa. La trama sigue al Dr. Manette\, su hija Lucie\, y dos hombres que se parecen físicamente: Charles Darnay\, un aristócrata francés que renuncia a su título\, y Sydney Carton\, un abogado inglés. La historia explora temas como el sacrificio\, la injusticia y la venganza\, culminando en momentos dramáticos relacionados con la Revolución. 
URL:https://casadeespanadfw.org/event/bookclub-noviembre-2025-historia-de-dos-ciudades-charles-dickens/
ATTACH;FMTTYPE=image/jpeg:https://casadeespanadfw.org/wp-content/uploads/2025/11/CLUB-DE-LECTURA-noviembre-2025.jpg
END:VEVENT
END:VCALENDAR