BEGIN:VCALENDAR
VERSION:2.0
PRODID:-//Casa De España - ECPv6.15.20//NONSGML v1.0//EN
CALSCALE:GREGORIAN
METHOD:PUBLISH
X-WR-CALNAME:Casa De España
X-ORIGINAL-URL:https://casadeespanadfw.org
X-WR-CALDESC:Eventos para Casa De España
REFRESH-INTERVAL;VALUE=DURATION:PT1H
X-Robots-Tag:noindex
X-PUBLISHED-TTL:PT1H
BEGIN:VTIMEZONE
TZID:America/Bogota
BEGIN:STANDARD
TZOFFSETFROM:-0500
TZOFFSETTO:-0500
TZNAME:-05
DTSTART:20240101T000000
END:STANDARD
END:VTIMEZONE
BEGIN:VEVENT
DTSTART;TZID=America/Bogota:20250816T120000
DTEND;TZID=America/Bogota:20250816T140000
DTSTAMP:20260424T205123
CREATED:20250514T164155Z
LAST-MODIFIED:20250514T164155Z
UID:4451-1755345600-1755352800@casadeespanadfw.org
SUMMARY:Altamira\, historia de un descubrimiento.
DESCRIPTION:Altamira\, historia de un descubrimiento.\n\n\nEn 2025 se cumplen 40 años de la inscripción de la cueva de Altamira en la lista\n\nde Patrimonio de la Humanidad de la UNESCO\, siendo la primera cavidad española en obtener\n\neste reconocimiento.\n\nPor D. Gonzalo Sánchez Eguren\n\nEl día 16 de agosto de 2025 a las 12 del mediodía\, tiene una duración de 2 horas aproximadamente.
URL:https://casadeespanadfw.org/event/altamira-historia-de-un-descubrimiento/
LOCATION:Avangard Group\, 7920 Belt Line Rd Suite 150 Dallas\, TX 75254\, DALLAS\, 75254\, United States
ATTACH;FMTTYPE=image/jpeg:https://casadeespanadfw.org/wp-content/uploads/2025/05/PONENCIA-ALTAMIRA.jpg
END:VEVENT
END:VCALENDAR