BEGIN:VCALENDAR
VERSION:2.0
PRODID:-//Casa De España - ECPv6.15.20//NONSGML v1.0//EN
CALSCALE:GREGORIAN
METHOD:PUBLISH
X-ORIGINAL-URL:https://casadeespanadfw.org
X-WR-CALDESC:Eventos para Casa De España
REFRESH-INTERVAL;VALUE=DURATION:PT1H
X-Robots-Tag:noindex
X-PUBLISHED-TTL:PT1H
BEGIN:VTIMEZONE
TZID:America/Bogota
BEGIN:STANDARD
TZOFFSETFROM:-0500
TZOFFSETTO:-0500
TZNAME:-05
DTSTART:20250101T000000
END:STANDARD
END:VTIMEZONE
BEGIN:VEVENT
DTSTART;TZID=America/Bogota:20260314T120000
DTEND;TZID=America/Bogota:20260314T130000
DTSTAMP:20260424T144853
CREATED:20260204T164305Z
LAST-MODIFIED:20260204T183713Z
UID:4584-1773489600-1773493200@casadeespanadfw.org
SUMMARY:ASAMBLEA GENERAL ORDINARIA 14 de marzo
DESCRIPTION:Os convocamos a la Asamblea General Ordinaria\, prevista en los estatutos de Casa de España\, a las 12PM en las oficinas de AVANGARD GROUP\,\, con el siguiente \nOrden del Día \n\nLectura y aprobación del acta de la asamblea anterior\nInforme de Presidencia\nInforme de Tesoreria\nElecciones a Presidencia y junta\nRuegos y pregunstas\n\nPara presentar vuestras candidaturas a presidencia debeéis mandar un correo a houseofspain@casadeespanadfw.org indicando ELECCIONES dentro del plazo de un mes antes de las elecciones. \n 
URL:https://casadeespanadfw.org/event/asamblea-general-ordinaria14-de-marzo/
LOCATION:Avangard Group\, 7920 Belt Line Rd Suite 150 Dallas\, TX 75254\, DALLAS\, 75254\, United States
END:VEVENT
BEGIN:VEVENT
DTSTART;TZID=America/Bogota:20260317T183000
DTEND;TZID=America/Bogota:20260317T203000
DTSTAMP:20260424T144853
CREATED:20260303T194515Z
LAST-MODIFIED:20260303T194515Z
UID:4597-1773772200-1773779400@casadeespanadfw.org
SUMMARY:Club de lectura. La Cacica
DESCRIPTION:Resumen\n\n\n\n\n\n\n\nEn 1547\, un periodo de guerra por el territorio en la recién descubierta América\, el cacique Cínera\, líder de los Cáchira de Zulasquilla\, anuncia la caída del cacique Mara en manos del hombre blanco vestido de hierro. Zulia\, la hija mayor del cacique Cínera\, se debate entre crear una alianza de guerreros para salir al paso de los españoles o huir internándose en la selva. Aunque es joven\, enérgica y decidida\, Zulia debe mostrar respeto a los líderes de su pueblo. Mientras tanto\, los españoles continúan en la búsqueda de aquello que más anhelan: la gloria\, el oro y las mujeres\, y para ello planean acabar con cualquier indicio de rebelión. Esta es una historia llena de luchas por el dominio del territorio\, la libertad de un pueblo y la permanencia de su cultura y costumbres. La identidad\, la libertad\, el amor\, la familia y la venganza son parte importante de los temas que se destacan en la novela.
URL:https://casadeespanadfw.org/event/club-de-lectura-la-cacica/
ATTACH;FMTTYPE=image/jpeg:https://casadeespanadfw.org/wp-content/uploads/2026/03/CLUB-DE-LECTURA-marzo-2026.jpg
END:VEVENT
BEGIN:VEVENT
DTSTART;TZID=America/Bogota:20260326T110000
DTEND;TZID=America/Bogota:20260326T133000
DTSTAMP:20260424T144853
CREATED:20260303T194849Z
LAST-MODIFIED:20260325T151159Z
UID:4600-1774522800-1774531800@casadeespanadfw.org
SUMMARY:Bullying: Lo que tus hijos no siempre te cuentan.
DESCRIPTION:Jornada divulgativa. Bullying: Lo que tus hijos no siempre te cuentan. \nEl bullying no se resuelve solo castigando\, se resuelve educando. \nImparte: Doña Sara Perez-Tomé. Asesora familiar y matrimonial. \nLugar: McKinney. 11aM.
URL:https://casadeespanadfw.org/event/bullying-lo-que-tus-hijos-no-siempre-te-cuentan/
ATTACH;FMTTYPE=image/jpeg:https://casadeespanadfw.org/wp-content/uploads/2026/03/Jornada-BullYing-26-de-marzo-2026-3.jpg
END:VEVENT
BEGIN:VEVENT
DTSTART;TZID=America/Bogota:20260413T173000
DTEND;TZID=America/Bogota:20260413T193000
DTSTAMP:20260424T144853
CREATED:20260330T154028Z
LAST-MODIFIED:20260330T154028Z
UID:4609-1776101400-1776108600@casadeespanadfw.org
SUMMARY:Demostración en vivo del acuarelista Álvaro Castagnet
DESCRIPTION:Acceso gratuito para socios de casa de España. (Como se desarrolla en un recinto cerrado el foro para CdE está limitado a 20 socios) \nEvento día 13 de abril: demostración en vivo del acuarelista Álvaro Castagnet.\nDe 5:30 a 7:30 p.m. \nUbicación: American Institute of Architects\, 325 North St. Paul Street #150\, Dallas\, TX 75201\, United States
URL:https://casadeespanadfw.org/event/demostracion-en-vivo-del-acuarelista-alvaro-castagnet/
LOCATION:American Institute of Architects\, 325 North St. Paul Street #150\, dallas\, 75201\, United States
ATTACH;FMTTYPE=image/jpeg:https://casadeespanadfw.org/wp-content/uploads/2026/03/PHOTO-2026-03-29-20-51-55.jpg
END:VEVENT
BEGIN:VEVENT
DTSTART;TZID=America/Bogota:20260419T120000
DTEND;TZID=America/Bogota:20260419T150000
DTSTAMP:20260424T144853
CREATED:20260330T155552Z
LAST-MODIFIED:20260330T155820Z
UID:4613-1776600000-1776610800@casadeespanadfw.org
SUMMARY:TAPAS 2026!
DESCRIPTION:Evento: Picnic & Tapas (Familiar)\nFecha: Domingo\, 19 de abril\nHora: 12:00 PM – 3:00 PM\nUbicación: 1681 Le Mans Ln\, Southlake\, TX 76092\nNota: Trae tu tapa para compartir. Es indispensable traer mesas y sillas.\nEntrada: Gratis
URL:https://casadeespanadfw.org/event/tapas-2026/
LOCATION:1681 Le Mans Ln\, Southlake\, TX 76092\, 1681 Le Mans Ln\, Southlake\, TX 76092\, SOUTHLAKE\, 76092\, United States
ATTACH;FMTTYPE=image/jpeg:https://casadeespanadfw.org/wp-content/uploads/2026/03/tapas-2026.jpg
END:VEVENT
BEGIN:VEVENT
DTSTART;TZID=America/Bogota:20260421T183000
DTEND;TZID=America/Bogota:20260421T203000
DTSTAMP:20260424T144853
CREATED:20260330T160238Z
LAST-MODIFIED:20260330T160238Z
UID:4619-1776796200-1776803400@casadeespanadfw.org
SUMMARY:Club de lectura Abril 2026.
DESCRIPTION:✨ “La lectura es un viaje que se disfruta más en compañía.”\n\nNuestro Club de Lectura regresa con una propuesta fascinante: “12 Palabras al Azar” de Fabiana Elisa Martínez. Te esperamos para charlar\, analizar y disfrutar de una tarde llena de literatura en nuestra próxima tertulia.\n📍 Guarda la fecha: 21 de abril\, 18:30h.\n\n¿Te unes? Escríbenos a HouseOfSpain@casadeespanadfw.org para más detalles. 📖❤️\n#ClubDeLectura #CasaDeEspañaDFW #LiteraturaEnEspañol #TertuliaLiteraria #FabianaElisaMartinez
URL:https://casadeespanadfw.org/event/club-de-lectura-abril-2026/
ATTACH;FMTTYPE=image/jpeg:https://casadeespanadfw.org/wp-content/uploads/2026/03/CLUB-DE-LECTURA-abril-2026.jpg
END:VEVENT
BEGIN:VEVENT
DTSTART;TZID=America/Bogota:20260423T190000
DTEND;TZID=America/Bogota:20260423T203000
DTSTAMP:20260424T144853
CREATED:20260330T161024Z
LAST-MODIFIED:20260402T172029Z
UID:4623-1776970800-1776976200@casadeespanadfw.org
SUMMARY:Celebrate Spain 2026.
DESCRIPTION:¡Vive los paisajes\, sonidos y sabores de España sin salir de Dallas! Celebrate Spain invita a todo el mundo a disfrutar de auténtica gastronomía española\, un mercado vibrante y actividades artísticas para todas las edades. Acompáñanos en una tarde de descubrimiento y alegría donde las tradiciones y la energía de España cobran vida en el corazón de Texas.\n\nGratis\nPatrocinado por la Oficina de Turismo de España.\n\nInscripción : https://24501a.blackbaudhosting.com/24501a/Celebrate-Spain-2026
URL:https://casadeespanadfw.org/event/celebrate-spain-2026/
LOCATION:meadows museum\, 5900 Bishop Blvd.\, dallas\, 75205\, United States
END:VEVENT
END:VCALENDAR