BEGIN:VCALENDAR
VERSION:2.0
PRODID:-//Casa De España - ECPv6.15.20//NONSGML v1.0//EN
CALSCALE:GREGORIAN
METHOD:PUBLISH
X-ORIGINAL-URL:https://casadeespanadfw.org/en
X-WR-CALDESC:Events for Casa De España
REFRESH-INTERVAL;VALUE=DURATION:PT1H
X-Robots-Tag:noindex
X-PUBLISHED-TTL:PT1H
BEGIN:VTIMEZONE
TZID:America/Bogota
BEGIN:STANDARD
TZOFFSETFROM:-0500
TZOFFSETTO:-0500
TZNAME:-05
DTSTART:20240101T000000
END:STANDARD
END:VTIMEZONE
BEGIN:VEVENT
DTSTART;TZID=America/Bogota:20251201T190000
DTEND;TZID=America/Bogota:20251201T210000
DTSTAMP:20260424T181558
CREATED:20251103T170323Z
LAST-MODIFIED:20251201T190942Z
UID:4545-1764615600-1764622800@casadeespanadfw.org
SUMMARY:CANCELADO! Asamblea General Ordinaria de Casa de España DFW
DESCRIPTION:CANCELADO. Os daremos nuevas fechas próximamente. \n  \nEl próximo 1 de diciembre celebraremos nuestra Asamblea General ordinaria de la Casa de España DFW a las 7 PM mediante ZOOM. \nOrden del día: \n\nInforme de Presidencia\nInforme de Tesoreria\nActualización Esttutos Casa de España\nConvocatoria ordinaria de elecciones\nRuegos\, preguntas y propuestas.\n\nOs facilitaremos por mail el enlace a la reunión con la debida antelación.
URL:https://casadeespanadfw.org/en/event/asamblea-general-ordinaria-de-casa-de-espana-dfw/
LOCATION:TX
END:VEVENT
END:VCALENDAR