BEGIN:VCALENDAR
VERSION:2.0
PRODID:-//Casa De España - ECPv6.15.20//NONSGML v1.0//EN
CALSCALE:GREGORIAN
METHOD:PUBLISH
X-WR-CALNAME:Casa De España
X-ORIGINAL-URL:https://casadeespanadfw.org/en
X-WR-CALDESC:Events for Casa De España
REFRESH-INTERVAL;VALUE=DURATION:PT1H
X-Robots-Tag:noindex
X-PUBLISHED-TTL:PT1H
BEGIN:VTIMEZONE
TZID:America/Bogota
BEGIN:STANDARD
TZOFFSETFROM:-0500
TZOFFSETTO:-0500
TZNAME:-05
DTSTART:20240101T000000
END:STANDARD
END:VTIMEZONE
BEGIN:VEVENT
DTSTART;TZID=America/Bogota:20251012T120000
DTEND;TZID=America/Bogota:20251012T170000
DTSTAMP:20260424T203910
CREATED:20250902T160905Z
LAST-MODIFIED:20250903T135350Z
UID:4471-1760270400-1760288400@casadeespanadfw.org
SUMMARY:Paellas 12 de octubre 2025 CDE DFW
DESCRIPTION:Vuelven nuestras paellas de Casa de España. Este año conmemoraremos la Hispanidad acompañados de amigos y una buena paella. \nApunta la fecha: 12 de octubre de 2025 a partir de las 12PM (Paellas se servirán a partir de la 1PM). \nPrecios: $15 SOCIO / $20 NO SOCIO. A partir del 1 de octubre: $20 SOCIO $30 NO SOCIO \nEl menú incluye aperitivos\, agua\, postre y paella. Puedes optar por ser paellero y hacer tu propia paella en el parque para compartir o degustar la que nos ofrecerá nuestro colaborador Sketches of Spain (Hasta acabar existencias). \nNecesitamos vuestra inscripción lo antes posible: https://www.signupgenius.com/go/10C094AA8AA2FA2FDC16-58324642-dadela \n  \n \n  \n  \n 
URL:https://casadeespanadfw.org/en/event/paellas-2025-cde-dfw/
LOCATION:PARR PARK GRAPEVINE\, 3010 PARR LN\, GRAPEVINE\, TEXAS\, 76051
ATTACH;FMTTYPE=image/jpeg:https://casadeespanadfw.org/wp-content/uploads/2025/09/Cartel-Paellas-Cde-2025-web-1.jpg
END:VEVENT
END:VCALENDAR